BEGIN:VCALENDAR
VERSION:2.0
PRODID:-//eventon.com NONSGML v1.0//EN
CALSCALE:GREGORIAN
METHOD:PUBLISH
BEGIN:VEVENT
UID:69e8d36abccb3
DTSTAMP:20260422T135554Z
DTSTART:20241018T180000Z
DTEND:20241018T215000Z
LOCATION:De Oosterpoort Trompsingel 27
SUMMARY:Jazzmob plays Moessorgski
DESCRIPTION:Jazzmob plays Moessorgski\nhttps://johanboekema.nl/events/jazzm
 ob-plays-moessorgski/
URL:https://johanboekema.nl/events/jazzmob-plays-moessorgski/
END:VEVENT
END:VCALENDAR