BEGIN:VCALENDAR
VERSION:2.0
PRODID:-//eventon.com NONSGML v1.0//EN
CALSCALE:GREGORIAN
METHOD:PUBLISH
BEGIN:VEVENT
UID:69e8d39814074
DTSTAMP:20260422T135640Z
DTSTART:20240718T180000Z
DTEND:20240718T215000Z
LOCATION:Der Aa-theater Akerkstraat 11
SUMMARY:W2S Goes TOP
DESCRIPTION:Het zomerconcert van Want2Swing met nummers van Tower of Power 
 en natuurlijk onze eigen FUPS.\nhttps://johanboekema.nl/events/w2s-goes-top
 /
URL:https://johanboekema.nl/events/w2s-goes-top/
END:VEVENT
END:VCALENDAR