BEGIN:VCALENDAR
VERSION:2.0
PRODID:-//eventon.com NONSGML v1.0//EN
CALSCALE:GREGORIAN
METHOD:PUBLISH
BEGIN:VEVENT
UID:69e8d307f3c8d
DTSTAMP:20260422T135415Z
DTSTART:20240907T120000Z
DTEND:20240907T215000Z
LOCATION:Roden
SUMMARY:Wat 'n Kunst
DESCRIPTION:Kunstfestival in Roden\nhttps://johanboekema.nl/events/wat-n-ku
 nst/
URL:https://johanboekema.nl/events/wat-n-kunst/
END:VEVENT
END:VCALENDAR