BEGIN:VCALENDAR
VERSION:2.0
PRODID:-//eventon.com NONSGML v1.0//EN
CALSCALE:GREGORIAN
METHOD:PUBLISH
BEGIN:VEVENT
UID:69e8d3b9b86e1
DTSTAMP:20260422T135713Z
DTSTART:20240901T160000Z
DTEND:20240901T215000Z
LOCATION:
SUMMARY:Opening Ringweg Groningen
DESCRIPTION:Opening Ringweg Groningen\nhttps://johanboekema.nl/events/openi
 ng-ringweg-groningen/
URL:https://johanboekema.nl/events/opening-ringweg-groningen/
END:VEVENT
END:VCALENDAR