BEGIN:VCALENDAR
VERSION:2.0
PRODID:-//eventon.com NONSGML v1.0//EN
CALSCALE:GREGORIAN
METHOD:PUBLISH
BEGIN:VEVENT
UID:69e8d3b81e69e
DTSTAMP:20260422T135712Z
DTSTART:20250202T173000Z
DTEND:20250202T225000Z
LOCATION:De Oosterpoort Trompsingel 27
SUMMARY:Jazzmob plays Sjostakovitsj
DESCRIPTION:Jazzmob plays Sjostakovitsj\nhttps://johanboekema.nl/events/jaz
 zmob-plays-sjostakovitsj/
URL:https://johanboekema.nl/events/jazzmob-plays-sjostakovitsj/
END:VEVENT
END:VCALENDAR