BEGIN:VCALENDAR
VERSION:2.0
PRODID:-//eventon.com NONSGML v1.0//EN
CALSCALE:GREGORIAN
METHOD:PUBLISH
BEGIN:VEVENT
UID:69e8d3e1602f7
DTSTAMP:20260422T135753Z
DTSTART:20241005T140000Z
DTEND:20241005T215000Z
LOCATION:Hoogeveen
SUMMARY:Opening Hoofdstraat Hoogeveen
DESCRIPTION:Opening Hoofdstraat Hoogeveen\nhttps://johanboekema.nl/events/o
 pening-hoofdstraat-hoogeveen/
URL:https://johanboekema.nl/events/opening-hoofdstraat-hoogeveen/
END:VEVENT
END:VCALENDAR