BEGIN:VCALENDAR
VERSION:2.0
PRODID:-//eventon.com NONSGML v1.0//EN
CALSCALE:GREGORIAN
METHOD:PUBLISH
BEGIN:VEVENT
UID:69e8d3ba69fc0
DTSTAMP:20260422T135714Z
DTSTART:20241118T090000Z
DTEND:20241118T225000Z
LOCATION:Assen
SUMMARY:W2S Schoolconcerten
DESCRIPTION:Met als doel om meer jongeren te bewegen een instrument te (bli
 jven) spelen.\nhttps://johanboekema.nl/events/w2s-schoolconcerten-3/
URL:https://johanboekema.nl/events/w2s-schoolconcerten-3/
END:VEVENT
END:VCALENDAR