BEGIN:VCALENDAR
VERSION:2.0
PRODID:-//eventon.com NONSGML v1.0//EN
CALSCALE:GREGORIAN
METHOD:PUBLISH
BEGIN:VEVENT
UID:69e8d3dc1df62
DTSTAMP:20260422T135748Z
DTSTART:20241116T120000Z
DTEND:20241116T225000Z
LOCATION:Kielzog Theater Gorecht Oost 157
SUMMARY:Stageband Jazz Orchestra
DESCRIPTION:Stageband Jazz Orchestra\nhttps://johanboekema.nl/events/stageb
 and-jazz-orchestra-2/
URL:https://johanboekema.nl/events/stageband-jazz-orchestra-2/
END:VEVENT
END:VCALENDAR