BEGIN:VCALENDAR
VERSION:2.0
PRODID:-//eventon.com NONSGML v1.0//EN
CALSCALE:GREGORIAN
METHOD:PUBLISH
BEGIN:VEVENT
UID:69e8d3dc27888
DTSTAMP:20260422T135748Z
DTSTART:20250201T173000Z
DTEND:20250201T225000Z
LOCATION:De Oosterpoort Trompsingel 27
SUMMARY:Jazzmob plays Sjostakovitsj
DESCRIPTION:Jazzmob plays Sjostakovitsj\nhttps://johanboekema.nl/events/jaz
 zmob-plays-sjostakovitsj-2/
URL:https://johanboekema.nl/events/jazzmob-plays-sjostakovitsj-2/
END:VEVENT
END:VCALENDAR