BEGIN:VCALENDAR
VERSION:2.0
PRODID:-//eventon.com NONSGML v1.0//EN
CALSCALE:GREGORIAN
METHOD:PUBLISH
BEGIN:VEVENT
UID:69e8d376de480
DTSTAMP:20260422T135606Z
DTSTART:20241214T130000Z
DTEND:20241214T225000Z
LOCATION:
SUMMARY:Xmas with Dixieland Crackerjacks
DESCRIPTION:Xmas with Dixieland Crackerjacks\nhttps://johanboekema.nl/event
 s/xmas-with-dixieland-crackerjacks/
URL:https://johanboekema.nl/events/xmas-with-dixieland-crackerjacks/
END:VEVENT
END:VCALENDAR