BEGIN:VCALENDAR
VERSION:2.0
PRODID:-//eventon.com NONSGML v1.0//EN
CALSCALE:GREGORIAN
METHOD:PUBLISH
BEGIN:VEVENT
UID:69e8d3e2db891
DTSTAMP:20260422T135754Z
DTSTART:20241221T130000Z
DTEND:20241221T225000Z
LOCATION:
SUMMARY:Xmas with Dixieland Crackerjacks
DESCRIPTION:Xmas with Dixieland Crackerjacks\nhttps://johanboekema.nl/event
 s/xmas-with-dixieland-crackerjacks-2/
URL:https://johanboekema.nl/events/xmas-with-dixieland-crackerjacks-2/
END:VEVENT
END:VCALENDAR