BEGIN:VCALENDAR
VERSION:2.0
PRODID:-//eventon.com NONSGML v1.0//EN
CALSCALE:GREGORIAN
METHOD:PUBLISH
BEGIN:VEVENT
UID:69e8d41f6967a
DTSTAMP:20260422T135855Z
DTSTART:20241219T190000Z
DTEND:20241219T225000Z
LOCATION:Enny&#039;s Place Nieuwe Kerkhof
SUMMARY:Jazzmob's Xmas Party
DESCRIPTION:(picture by Marijn Broere)\nhttps://johanboekema.nl/events/jazz
 mobs-xmas-party-2/
URL:https://johanboekema.nl/events/jazzmobs-xmas-party-2/
END:VEVENT
END:VCALENDAR