BEGIN:VCALENDAR
VERSION:2.0
PRODID:-//eventon.com NONSGML v1.0//EN
CALSCALE:GREGORIAN
METHOD:PUBLISH
BEGIN:VEVENT
UID:69e8d3986d96b
DTSTAMP:20260422T135640Z
DTSTART:20250124T190000Z
DTEND:20250124T225000Z
LOCATION:Enny&#039;s Place Nieuwe Kerkhof
SUMMARY:Jazzmob @ Enny's Place
DESCRIPTION:Jazzmob @ Enny's Place\nhttps://johanboekema.nl/events/jazzmob-
 ennys-place/
URL:https://johanboekema.nl/events/jazzmob-ennys-place/
END:VEVENT
END:VCALENDAR