BEGIN:VCALENDAR
VERSION:2.0
PRODID:-//eventon.com NONSGML v1.0//EN
CALSCALE:GREGORIAN
METHOD:PUBLISH
BEGIN:VEVENT
UID:69e8d3fba53d5
DTSTAMP:20260422T135819Z
DTSTART:20250409T180000Z
DTEND:20250409T215000Z
LOCATION:Bodegraven
SUMMARY:Jazzmob 80 jaar bevrijding
DESCRIPTION:Jazzmob 80 jaar bevrijding\nhttps://johanboekema.nl/events/jazz
 mob-80-jaar-bevrijding/
URL:https://johanboekema.nl/events/jazzmob-80-jaar-bevrijding/
END:VEVENT
END:VCALENDAR