BEGIN:VCALENDAR
VERSION:2.0
PRODID:-//eventon.com NONSGML v1.0//EN
CALSCALE:GREGORIAN
METHOD:PUBLISH
BEGIN:VEVENT
UID:69e8d3dd810a7
DTSTAMP:20260422T135749Z
DTSTART:20250328T190000Z
DTEND:20250328T225900Z
LOCATION:Eetcafé Groothuis tationsstraat 75\,  7811 GS
SUMMARY:Heel Groothuis zingt H-zes live
DESCRIPTION:Op vrijdag 28 maart zal heel Groothuis omgetoverd worden tot ee
 n Amsterdams café 🍻 ondersteund door een geweldige band zingen dan dive
 rse zangers en zangeressen nummers van Andre.\nhttps://johanboekema.nl/even
 ts/heel-groothuis-zingt-h-zes-live/
URL:https://johanboekema.nl/events/heel-groothuis-zingt-h-zes-live/
END:VEVENT
END:VCALENDAR