BEGIN:VCALENDAR
VERSION:2.0
PRODID:-//eventon.com NONSGML v1.0//EN
CALSCALE:GREGORIAN
METHOD:PUBLISH
BEGIN:VEVENT
UID:69e8d37f74f45
DTSTAMP:20260422T135615Z
DTSTART:20250503T180000Z
DTEND:20250503T114100Z
LOCATION:Bartholomeüskerk Hoofdstraat\,  9921 PC
SUMMARY:Herdenkingsconcert Stedum
DESCRIPTION:Herdenkingsconcert Stedum\nhttps://johanboekema.nl/events/herde
 nkingsconcert-stedum/
URL:https://johanboekema.nl/events/herdenkingsconcert-stedum/
END:VEVENT
END:VCALENDAR