BEGIN:VCALENDAR
VERSION:2.0
PRODID:-//eventon.com NONSGML v1.0//EN
CALSCALE:GREGORIAN
METHOD:PUBLISH
BEGIN:VEVENT
UID:69e8d3fb5a8c1
DTSTAMP:20260422T135819Z
DTSTART:20250813T180000Z
DTEND:20250813T215900Z
LOCATION:De Champagnebar Zuiderkerkstraat 7
SUMMARY:Jazzmob goes Latin
DESCRIPTION:Jazzmob goes Latin\nhttps://johanboekema.nl/events/jazzmob-goes
 -latin-2/
URL:https://johanboekema.nl/events/jazzmob-goes-latin-2/
END:VEVENT
END:VCALENDAR