BEGIN:VCALENDAR
VERSION:2.0
PRODID:-//eventon.com NONSGML v1.0//EN
CALSCALE:GREGORIAN
METHOD:PUBLISH
BEGIN:VEVENT
UID:69e8d33bc30f9
DTSTAMP:20260422T135507Z
DTSTART:20250502T190000Z
DTEND:20250502T215000Z
LOCATION:Groningen
SUMMARY:Want2Swing
DESCRIPTION:Besloten feest\nhttps://johanboekema.nl/events/want2swing/
URL:https://johanboekema.nl/events/want2swing/
END:VEVENT
END:VCALENDAR