BEGIN:VCALENDAR
VERSION:2.0
PRODID:-//eventon.com NONSGML v1.0//EN
CALSCALE:GREGORIAN
METHOD:PUBLISH
BEGIN:VEVENT
UID:69e8d3e199f04
DTSTAMP:20260422T135753Z
DTSTART:20250425T180000Z
DTEND:20250425T215900Z
LOCATION:De Champagnebar Zuiderkerkstraat 7
SUMMARY:Roaring 20's Till Swing Era '45
DESCRIPTION:Een geschiedenisles met live-muziek of een concert met muziek u
 it de Roaring Twenties met uitleg. En als tweede set een dansset met muziek
  uit de jaren &#8217;40.\nhttps://johanboekema.nl/events/roaring-20s-till-s
 wing-era-45/
URL:https://johanboekema.nl/events/roaring-20s-till-swing-era-45/
END:VEVENT
END:VCALENDAR