BEGIN:VCALENDAR
VERSION:2.0
PRODID:-//eventon.com NONSGML v1.0//EN
CALSCALE:GREGORIAN
METHOD:PUBLISH
BEGIN:VEVENT
UID:69e8d3dc5d7d9
DTSTAMP:20260422T135748Z
DTSTART:20250527T180000Z
DTEND:20250527T215000Z
LOCATION:Prins Claus Conservatorium Meeuwerderweg 1
SUMMARY:Examen Anja Orlova
DESCRIPTION:Examen Anja Orlova\nhttps://johanboekema.nl/events/examen-anja-
 orlova/
URL:https://johanboekema.nl/events/examen-anja-orlova/
END:VEVENT
END:VCALENDAR