BEGIN:VCALENDAR
VERSION:2.0
PRODID:-//eventon.com NONSGML v1.0//EN
CALSCALE:GREGORIAN
METHOD:PUBLISH
BEGIN:VEVENT
UID:69e8d3db4f2eb
DTSTAMP:20260422T135747Z
DTSTART:20250706T130000Z
DTEND:20250706T215900Z
LOCATION:De Rietschans Meerweg 221
SUMMARY:Seizoensconcert
DESCRIPTION:De seizoensafsluiting van Dutch Spirit\nhttps://johanboekema.nl
 /events/seizoensconcert/
URL:https://johanboekema.nl/events/seizoensconcert/
END:VEVENT
END:VCALENDAR