BEGIN:VCALENDAR
VERSION:2.0
PRODID:-//eventon.com NONSGML v1.0//EN
CALSCALE:GREGORIAN
METHOD:PUBLISH
BEGIN:VEVENT
UID:69e8d3224713e
DTSTAMP:20260422T135442Z
DTSTART:20250426T190000Z
DTEND:20250426T215000Z
LOCATION:De Champagnebar Zuiderkerkstraat 7
SUMMARY:Jazzmob Koningsdag
DESCRIPTION:Jazzmob Koningsdag\nhttps://johanboekema.nl/events/jazzmob-koni
 ngsdag/
URL:https://johanboekema.nl/events/jazzmob-koningsdag/
END:VEVENT
END:VCALENDAR