BEGIN:VCALENDAR
VERSION:2.0
PRODID:-//eventon.com NONSGML v1.0//EN
CALSCALE:GREGORIAN
METHOD:PUBLISH
BEGIN:VEVENT
UID:69e8d3682b01c
DTSTAMP:20260422T135552Z
DTSTART:20250612T180000Z
DTEND:20250612T215000Z
LOCATION:Prins Claus Conservatorium Meeuwerderweg 1
SUMMARY:Examen Idaira Moragues
DESCRIPTION:Examen Idaira Moragues\nhttps://johanboekema.nl/events/examen-i
 daira-moragues/
URL:https://johanboekema.nl/events/examen-idaira-moragues/
END:VEVENT
END:VCALENDAR