BEGIN:VCALENDAR
VERSION:2.0
PRODID:-//eventon.com NONSGML v1.0//EN
CALSCALE:GREGORIAN
METHOD:PUBLISH
BEGIN:VEVENT
UID:69e7453446293
DTSTAMP:20260421T093652Z
DTSTART:20250619T180000Z
DTEND:20250619T215900Z
LOCATION:
SUMMARY:Stedum Got Talent
DESCRIPTION:Juryduty tijdens de feestweek\nhttps://johanboekema.nl/events/s
 tedum-got-talent-2/
URL:https://johanboekema.nl/events/stedum-got-talent-2/
END:VEVENT
END:VCALENDAR