BEGIN:VCALENDAR
VERSION:2.0
PRODID:-//eventon.com NONSGML v1.0//EN
CALSCALE:GREGORIAN
METHOD:PUBLISH
BEGIN:VEVENT
UID:69e8d32f34da9
DTSTAMP:20260422T135455Z
DTSTART:20250703T180000Z
DTEND:20250703T215900Z
LOCATION:Simplon Boterdiep 69
SUMMARY:W2S Goes TOP
DESCRIPTION:Het zomerconcert van Want2Swing met nummers van Tower of Power 
 en natuurlijk onze eigen FUPS.\nhttps://johanboekema.nl/events/w2s-goes-top
 -2/
URL:https://johanboekema.nl/events/w2s-goes-top-2/
END:VEVENT
END:VCALENDAR