BEGIN:VCALENDAR
VERSION:2.0
PRODID:-//eventon.com NONSGML v1.0//EN
CALSCALE:GREGORIAN
METHOD:PUBLISH
BEGIN:VEVENT
UID:69e8d3fc31f74
DTSTAMP:20260422T135820Z
DTSTART:20250627T180000Z
DTEND:20250627T215900Z
LOCATION:Marken
SUMMARY:Postman & The Ramblers
DESCRIPTION:Havenfeesten Marken\nhttps://johanboekema.nl/events/optreden-me
 er-info-volgt-2/
URL:https://johanboekema.nl/events/optreden-meer-info-volgt-2/
END:VEVENT
END:VCALENDAR