BEGIN:VCALENDAR
VERSION:2.0
PRODID:-//eventon.com NONSGML v1.0//EN
CALSCALE:GREGORIAN
METHOD:PUBLISH
BEGIN:VEVENT
UID:69e8d36af133a
DTSTAMP:20260422T135554Z
DTSTART:20250823T180000Z
DTEND:20250823T215900Z
LOCATION:EM2 Suikerlaan 6
SUMMARY:Mart Eerens - Release Show
DESCRIPTION:Mart Eerens - Release Show\nhttps://johanboekema.nl/events/rele
 ase-show/
URL:https://johanboekema.nl/events/release-show/
END:VEVENT
END:VCALENDAR