BEGIN:VCALENDAR
VERSION:2.0
PRODID:-//eventon.com NONSGML v1.0//EN
CALSCALE:GREGORIAN
METHOD:PUBLISH
BEGIN:VEVENT
UID:69e8d42015c7f
DTSTAMP:20260422T135856Z
DTSTART:20250603T150000Z
DTEND:20250603T215900Z
LOCATION:Prins Claus Conservatorium Meeuwerderweg 1
SUMMARY:Examen HaoYe Li
DESCRIPTION:Examen HaoYe Li\nhttps://johanboekema.nl/events/examen-haoye-li
 /
URL:https://johanboekema.nl/events/examen-haoye-li/
END:VEVENT
END:VCALENDAR