BEGIN:VCALENDAR
VERSION:2.0
PRODID:-//eventon.com NONSGML v1.0//EN
CALSCALE:GREGORIAN
METHOD:PUBLISH
BEGIN:VEVENT
UID:69e8d3db37a2b
DTSTAMP:20260422T135747Z
DTSTART:20250607T183000Z
DTEND:20250607T215900Z
LOCATION:https://www.rtvdrenthe.nl/kijk/live
SUMMARY:Songfestival Drenthe
DESCRIPTION:Songfestival Drenthe\nhttps://johanboekema.nl/events/songfestiv
 al-drenthe/var/event_access
URL:https://johanboekema.nl/events/songfestival-drenthe/var/event_access
END:VEVENT
END:VCALENDAR