BEGIN:VCALENDAR
VERSION:2.0
PRODID:-//eventon.com NONSGML v1.0//EN
CALSCALE:GREGORIAN
METHOD:PUBLISH
BEGIN:VEVENT
UID:69eb3ba2c7b73
DTSTAMP:20260424T094506Z
DTSTART:20250907
DTEND:20250908
LOCATION:Picknick in the Park
SUMMARY:Ska in Meppel
DESCRIPTION:\nhttps://johanboekema.nl/events/ska-in-meppel/
URL:https://johanboekema.nl/events/ska-in-meppel/
END:VEVENT
END:VCALENDAR