BEGIN:VCALENDAR
VERSION:2.0
PRODID:-//eventon.com NONSGML v1.0//EN
CALSCALE:GREGORIAN
METHOD:PUBLISH
BEGIN:VEVENT
UID:69e8d3e16e98e
DTSTAMP:20260422T135753Z
DTSTART:20251207T140000Z
DTEND:20251207T225900Z
LOCATION:Prins Claus Conservatorium Meeuwerderweg 1
SUMMARY:Requiem voor verdwenen dorpen
DESCRIPTION:Verdwenen dorpen; 500 dorpen\,  gehuchten en steden zijn sinds 
 de middeleeuwen verdwenen. Soms verplaatst en soms ook echt weg.\nhttps://j
 ohanboekema.nl/events/requiem-voor-verdwenen-dorpen/
URL:https://johanboekema.nl/events/requiem-voor-verdwenen-dorpen/
END:VEVENT
END:VCALENDAR