BEGIN:VCALENDAR
VERSION:2.0
PRODID:-//eventon.com NONSGML v1.0//EN
CALSCALE:GREGORIAN
METHOD:PUBLISH
BEGIN:VEVENT
UID:69e8d398a1fca
DTSTAMP:20260422T135640Z
DTSTART:20251228T190000Z
DTEND:20251228T225900Z
LOCATION:Enny&#039;s Place Nieuwe Kerkhof
SUMMARY:Jazzmob's Après Xmas Party
DESCRIPTION:(picture by Marijn Broere)\nhttps://johanboekema.nl/events/jazz
 mobs-xmas-party-3/
URL:https://johanboekema.nl/events/jazzmobs-xmas-party-3/
END:VEVENT
END:VCALENDAR