BEGIN:VCALENDAR
VERSION:2.0
PRODID:-//eventon.com NONSGML v1.0//EN
CALSCALE:GREGORIAN
METHOD:PUBLISH
BEGIN:VEVENT
UID:69e5e6a0cab68
DTSTAMP:20260420T084104Z
DTSTART:20251220T110000Z
DTEND:20251220T225900Z
LOCATION:Ede
SUMMARY:Xmas with Dixieland Crackerjacks
DESCRIPTION:Xmas with Dixieland Crackerjacks\nhttps://johanboekema.nl/event
 s/xmas-with-dixieland-crackerjacks-3/
URL:https://johanboekema.nl/events/xmas-with-dixieland-crackerjacks-3/
END:VEVENT
END:VCALENDAR