BEGIN:VCALENDAR
VERSION:2.0
PRODID:-//eventon.com NONSGML v1.0//EN
CALSCALE:GREGORIAN
METHOD:PUBLISH
BEGIN:VEVENT
UID:69e8d3dc741d8
DTSTAMP:20260422T135748Z
DTSTART:20251221T110000Z
DTEND:20251221T225900Z
LOCATION:Zwolle
SUMMARY:Xmas with Dixieland Crackerjacks
DESCRIPTION:Xmas with Dixieland Crackerjacks\nhttps://johanboekema.nl/event
 s/xmas-with-dixieland-crackerjacks-4/
URL:https://johanboekema.nl/events/xmas-with-dixieland-crackerjacks-4/
END:VEVENT
END:VCALENDAR