BEGIN:VCALENDAR
VERSION:2.0
PRODID:-//eventon.com NONSGML v1.0//EN
CALSCALE:GREGORIAN
METHOD:PUBLISH
BEGIN:VEVENT
UID:69e8d3b90c4a4
DTSTAMP:20260422T135713Z
DTSTART:20251209T200000Z
DTEND:20251209T225900Z
LOCATION:De Smederij Tuinstraat 2
SUMMARY:Prins Claus Big Band at De Smederij
DESCRIPTION:Prins Claus Big Band at De Smederij\nhttps://johanboekema.nl/ev
 ents/prins-claus-big-band-at-de-smederij-2/
URL:https://johanboekema.nl/events/prins-claus-big-band-at-de-smederij-2/
END:VEVENT
END:VCALENDAR