BEGIN:VCALENDAR
VERSION:2.0
PRODID:-//eventon.com NONSGML v1.0//EN
CALSCALE:GREGORIAN
METHOD:PUBLISH
BEGIN:VEVENT
UID:69e8d399879db
DTSTAMP:20260422T135641Z
DTSTART:20260113T190000Z
DTEND:20260113T225900Z
LOCATION:Kultuurhoes Wehe-den Hoorn Mernaweg 18
SUMMARY:Requiem voor verdwenen dorpen
DESCRIPTION:Verdwenen dorpen; 500 dorpen\,  gehuchten en steden zijn sinds 
 de middeleeuwen verdwenen. Soms verplaatst en soms ook echt weg.\nhttps://j
 ohanboekema.nl/events/requiem-voor-verdwenen-dorpen-3/
URL:https://johanboekema.nl/events/requiem-voor-verdwenen-dorpen-3/
END:VEVENT
END:VCALENDAR