BEGIN:VCALENDAR
VERSION:2.0
PRODID:-//eventon.com NONSGML v1.0//EN
CALSCALE:GREGORIAN
METHOD:PUBLISH
BEGIN:VEVENT
UID:69e8d3fc7e898
DTSTAMP:20260422T135820Z
DTSTART:20260105T190000Z
DTEND:20260105T225900Z
LOCATION:De Nieuwe Kolk Weiersstraat 1
SUMMARY:Nieuwjaarsreceptie gemeente Assen
DESCRIPTION:De Nieuwe Kolk\nhttps://johanboekema.nl/events/nieuwjaarsrecept
 ie-gemeente-assen/
URL:https://johanboekema.nl/events/nieuwjaarsreceptie-gemeente-assen/
END:VEVENT
END:VCALENDAR