BEGIN:VCALENDAR
VERSION:2.0
PRODID:-//eventon.com NONSGML v1.0//EN
CALSCALE:GREGORIAN
METHOD:PUBLISH
BEGIN:VEVENT
UID:69e8d3e2654ab
DTSTAMP:20260422T135754Z
DTSTART:20260122T110000Z
DTEND:20260122T225900Z
LOCATION:Assen
SUMMARY:W2S Schoolconcerten
DESCRIPTION:Met als doel om meer jongeren te bewegen een instrument te (bli
 jven) spelen.\nhttps://johanboekema.nl/events/w2s-schoolconcerten-6/
URL:https://johanboekema.nl/events/w2s-schoolconcerten-6/
END:VEVENT
END:VCALENDAR