BEGIN:VCALENDAR
VERSION:2.0
PRODID:-//eventon.com NONSGML v1.0//EN
CALSCALE:GREGORIAN
METHOD:PUBLISH
BEGIN:VEVENT
UID:69e8d3db3970a
DTSTAMP:20260422T135747Z
DTSTART:20260121T183000Z
DTEND:20260121T225900Z
LOCATION:Prins Claus Conservatorium Meeuwerderweg 1
SUMMARY:Duo concert met Prins Claus Conservatorium Big Band
DESCRIPTION:Duo concert met Prins Claus Conservatorium Big Band\nhttps://jo
 hanboekema.nl/events/duo-concert-met-prins-claus-conservatorium-big-band/
URL:https://johanboekema.nl/events/duo-concert-met-prins-claus-conservatorium-big-band/
END:VEVENT
END:VCALENDAR