BEGIN:VCALENDAR
VERSION:2.0
PRODID:-//eventon.com NONSGML v1.0//EN
CALSCALE:GREGORIAN
METHOD:PUBLISH
BEGIN:VEVENT
UID:69e8d3e306359
DTSTAMP:20260422T135755Z
DTSTART:20260131T200000Z
DTEND:20260131T225900Z
LOCATION:Groningen
SUMMARY:Want2Swing privé feest
DESCRIPTION:Besloten feest\nhttps://johanboekema.nl/events/want2swing-prive
 -feest/
URL:https://johanboekema.nl/events/want2swing-prive-feest/
END:VEVENT
END:VCALENDAR