BEGIN:VCALENDAR
VERSION:2.0
PRODID:-//eventon.com NONSGML v1.0//EN
CALSCALE:GREGORIAN
METHOD:PUBLISH
BEGIN:VEVENT
UID:69e8d376aec76
DTSTAMP:20260422T135606Z
DTSTART:20260208T120000Z
DTEND:20260208T225900Z
LOCATION:Prins Claus Conservatorium Meeuwerderweg 1
SUMMARY:Stageband Jazz Orchestra - solistenconcert
DESCRIPTION:Stageband Jazz Orchestra - solistenconcert\nhttps://johanboekem
 a.nl/events/stageband-jazz-orchestra-solistenconcert/
URL:https://johanboekema.nl/events/stageband-jazz-orchestra-solistenconcert/
END:VEVENT
END:VCALENDAR