BEGIN:VCALENDAR
VERSION:2.0
PRODID:-//eventon.com NONSGML v1.0//EN
CALSCALE:GREGORIAN
METHOD:PUBLISH
BEGIN:VEVENT
UID:69e8d5af15db1
DTSTAMP:20260422T140535Z
DTSTART:20260812T180000Z
DTEND:20260812T215900Z
LOCATION:
SUMMARY:The Radiators
DESCRIPTION:\nhttps://johanboekema.nl/events/the-radiators-4/
URL:https://johanboekema.nl/events/the-radiators-4/
END:VEVENT
END:VCALENDAR