BEGIN:VCALENDAR
VERSION:2.0
PRODID:-//eventon.com NONSGML v1.0//EN
CALSCALE:GREGORIAN
METHOD:PUBLISH
BEGIN:VEVENT
UID:69e8d55f0e1af
DTSTAMP:20260422T140415Z
DTSTART:20260703T180000Z
DTEND:20260703T215900Z
LOCATION:De Oosterpoort Trompsingel 27
SUMMARY:Groninger Jazz Symfonie
DESCRIPTION:Dutch Spirit in &#8220;Metropole&#8221; bezetting met een voor 
 dit orkest gecomponeerde jazz symfonie\nhttps://johanboekema.nl/events/gron
 inger-jazz-symfonie/
URL:https://johanboekema.nl/events/groninger-jazz-symfonie/
END:VEVENT
END:VCALENDAR