BEGIN:VCALENDAR
VERSION:2.0
PRODID:-//eventon.com NONSGML v1.0//EN
CALSCALE:GREGORIAN
METHOD:PUBLISH
BEGIN:VEVENT
UID:69e8d523d2ea6
DTSTAMP:20260422T140315Z
DTSTART:20260725T180000Z
DTEND:20260725T215900Z
LOCATION:
SUMMARY:Ache Cubano
DESCRIPTION:Ache Cubano\nhttps://johanboekema.nl/events/ache-cubano/
URL:https://johanboekema.nl/events/ache-cubano/
END:VEVENT
END:VCALENDAR