BEGIN:VCALENDAR
VERSION:2.0
PRODID:-//eventon.com NONSGML v1.0//EN
CALSCALE:GREGORIAN
METHOD:PUBLISH
BEGIN:VEVENT
UID:69e8d37e4411b
DTSTAMP:20260422T135614Z
DTSTART:20260124T200000Z
DTEND:20260124T225900Z
LOCATION:Enny&#039;s Place Nieuwe Kerkhof
SUMMARY:Jazzmob @ Enny's Place
DESCRIPTION:Jazzmob @ Enny's Place\nhttps://johanboekema.nl/events/jazzmob-
 ennys-place-2/
URL:https://johanboekema.nl/events/jazzmob-ennys-place-2/
END:VEVENT
END:VCALENDAR