BEGIN:VCALENDAR
VERSION:2.0
PRODID:-//eventon.com NONSGML v1.0//EN
CALSCALE:GREGORIAN
METHOD:PUBLISH
BEGIN:VEVENT
UID:69eb29e302208
DTSTAMP:20260424T082923Z
DTSTART:20261017T181500Z
DTEND:20261017T215900Z
LOCATION:Theater Carrousel Ommen Van Reeuwijkstraat 5
SUMMARY:Limerence
DESCRIPTION:\nhttps://johanboekema.nl/events/beau-in-concer/
URL:https://johanboekema.nl/events/beau-in-concer/
END:VEVENT
END:VCALENDAR