BEGIN:VCALENDAR
VERSION:2.0
PRODID:-//eventon.com NONSGML v1.0//EN
CALSCALE:GREGORIAN
METHOD:PUBLISH
BEGIN:VEVENT
UID:69e8d2fe6ebe7
DTSTAMP:20260422T135406Z
DTSTART:20220206T190000Z
DTEND:20220206T220000Z
LOCATION:Bij Vrijdag Sint Jansstraat 7\,  Groningen
SUMMARY:FUPStival
DESCRIPTION:Sinds seizoen 2016/2017 publiceert Big Band Want2swing in princ
 ipe maandelijks een arrangement van een zeer recente hit. In navolging van 
 de grote Big Bands van de vorige eeuw proberen we op die manier de Big Band
  muziek bekend te maken bij een groter publiek. Mensen die uit zichzelf nie
 t zo[..]\nhttps://johanboekema.nl/events/fupstival/
URL:https://johanboekema.nl/events/fupstival/
END:VEVENT
END:VCALENDAR