BEGIN:VCALENDAR
VERSION:2.0
PRODID:-//eventon.com NONSGML v1.0//EN
CALSCALE:GREGORIAN
METHOD:PUBLISH
BEGIN:VEVENT
UID:69e773585dc8a
DTSTAMP:20260421T125344Z
DTSTART:20220213T190000Z
DTEND:20220213T220000Z
LOCATION:Theater De Bres Schoolstraat 4
SUMMARY:Macramé Funk
DESCRIPTION:Met het Macramé Funk project gaat S.J.O. terug naar een bijzon
 der spannende tijd wat betreft de jazzmuziek. De Big Band muziek werd elekt
 rischer.De Fender Rhodes deed zijn intree. Er werd een hele stijl opgetuigd
  rond deze nieuwe sound. Belangrijke voortrekkers waren Herbie Hancock\,  M
 iles Davis\,  Brecker Brothers of Weather Report.[..]\nhttps://johanboekema
 .nl/events/macrame-funk-leeuwarden/
URL:https://johanboekema.nl/events/macrame-funk-leeuwarden/
END:VEVENT
END:VCALENDAR