BEGIN:VCALENDAR
VERSION:2.0
PRODID:-//eventon.com NONSGML v1.0//EN
CALSCALE:GREGORIAN
METHOD:PUBLISH
BEGIN:VEVENT
UID:69e8d330efe67
DTSTAMP:20260422T135456Z
DTSTART:20220430T180000Z
DTEND:20220430T180000Z
LOCATION:Sportpark Olde Wierden Opende Verbindingsweg 7
SUMMARY:Take One
DESCRIPTION:Elf korpsen uit Groningen\,  Drenthe en Friesland doen mee aan
  het WMC. Ze zijn al de hele winter in training om optimaal te presteren in
  Kerkrade. Ook de komende maanden trainen de 550 muzikanten nog vele uren. 
 De show- en marchingbands willen ook graag oefenen in competitievorm. Daaro
 m organiseren ze gezamenlijk[..]\nhttps://johanboekema.nl/events/take-one/
URL:https://johanboekema.nl/events/take-one/
END:VEVENT
END:VCALENDAR