BEGIN:VCALENDAR
VERSION:2.0
PRODID:-//eventon.com NONSGML v1.0//EN
CALSCALE:GREGORIAN
METHOD:PUBLISH
BEGIN:VEVENT
UID:69e8d3dd361d4
DTSTAMP:20260422T135749Z
DTSTART:20220212T190000Z
DTEND:20220212T210000Z
LOCATION:
SUMMARY:Besloten Concert
DESCRIPTION:Besloten Concert\nhttps://johanboekema.nl/events/besloten-conce
 rt/
URL:https://johanboekema.nl/events/besloten-concert/
END:VEVENT
END:VCALENDAR